BEGIN:VCALENDAR
VERSION:2.0
PRODID:-//wp-events-plugin.com//7.2.3.1//EN
TZID:Europe/Amsterdam
X-WR-TIMEZONE:Europe/Amsterdam
BEGIN:VEVENT
UID:50@havenkwartierdeventer.com
DTSTART;TZID=Europe/Amsterdam:20120624T150000
DTEND;TZID=Europe/Amsterdam:20120624T180000
DTSTAMP:20151130T161018Z
URL:https://www.havenkwartierdeventer.com/agenda/archief/acsh-21-junior-ed
 itie-o-a-stijn-en-bertin/
SUMMARY:ACSH 21 (junior editie): o.a. Stijn en Bertin
DESCRIPTION:Na een zeer geslaagde eerste junior editie van de ass-crack sta
 ge-hack vorig jaar\, organiseertesc.rec. samen met WILLIE nu eindelijk een
  tweede junior editie van deze avontuurlijk concertreeks.
ATTACH;FMTTYPE=image/jpeg:https://www.havenkwartierdeventer.com/wp-content
 /uploads/acsh21-e1448899803537.jpg
LOCATION:WILLIE\, Mr. H.F. de Boerlaan 151\, Deventer\, 7411 AH\, Nederland
GEO:52.24689916926152;6.169469233204609
X-APPLE-STRUCTURED-LOCATION;VALUE=URI;X-ADDRESS=Mr. H.F. de Boerlaan 151\, 
 Deventer\, 7411 AH\, Nederland;X-APPLE-RADIUS=100;X-TITLE=WILLIE:geo:52.24
 689916926152,6.169469233204609
END:VEVENT
BEGIN:VTIMEZONE
TZID:Europe/Amsterdam
X-LIC-LOCATION:Europe/Amsterdam
BEGIN:DAYLIGHT
DTSTART:20120325T030000
TZOFFSETFROM:+0100
TZOFFSETTO:+0200
TZNAME:CEST
END:DAYLIGHT
END:VTIMEZONE
END:VCALENDAR