BEGIN:VCALENDAR
VERSION:2.0
PRODID:-//wp-events-plugin.com//7.2.3.1//EN
TZID:Europe/Amsterdam
X-WR-TIMEZONE:Europe/Amsterdam
BEGIN:VEVENT
UID:1494@havenkwartierdeventer.com
DTSTART;TZID=Europe/Amsterdam:20190601T190000
DTEND;TZID=Europe/Amsterdam:20190601T210000
DTSTAMP:20190529T074915Z
URL:https://www.havenkwartierdeventer.com/agenda/archief/dans-netwerk-oost
 -productie/
SUMMARY:Dans Netwerk Oost productie
DESCRIPTION:Dans Netwerk Oost presenteert een korte dansproductie met danse
 rs uit Overijssel en Gelderland.
ATTACH;FMTTYPE=image/jpeg:https://www.havenkwartierdeventer.com/wp-content
 /uploads/programma-1-e1559116148525.png
LOCATION:Theaterschip\, Scheepvaartstraat 9-11\, Deventer\, 7411 MB\, Nede
 rland
GEO:52.247654;6.169954
X-APPLE-STRUCTURED-LOCATION;VALUE=URI;X-ADDRESS=Scheepvaartstraat 9-11\, D
 eventer\, 7411 MB\, Nederland;X-APPLE-RADIUS=100;X-TITLE=Theaterschip:geo:
 52.247654,6.169954
END:VEVENT
BEGIN:VTIMEZONE
TZID:Europe/Amsterdam
X-LIC-LOCATION:Europe/Amsterdam
BEGIN:DAYLIGHT
DTSTART:20190331T030000
TZOFFSETFROM:+0100
TZOFFSETTO:+0200
TZNAME:CEST
END:DAYLIGHT
END:VTIMEZONE
END:VCALENDAR