BEGIN:VCALENDAR
VERSION:2.0
PRODID:-//wp-events-plugin.com//7.2.3.1//EN
TZID:Europe/Amsterdam
X-WR-TIMEZONE:Europe/Amsterdam
BEGIN:VEVENT
UID:1761@havenkwartierdeventer.com
DTSTART;TZID=Europe/Amsterdam:20221113T190000
DTEND;TZID=Europe/Amsterdam:20221113T203000
DTSTAMP:20221030T195619Z
URL:https://www.havenkwartierdeventer.com/agenda/archief/deventer-street-a
 rt-wandeling-7/
SUMMARY:Deventer Street Art wandeling
DESCRIPTION:Wandel mee en leer het verleden\, heden en de toekomst van Deve
 nter kennen aan de hand van de Street Art. Ik vertel je alles over het pro
 ject Street Art Streets\, hoe een muurschildering tot stand komt en welke 
 materialen hiervoor gebruikt worden. We lopen langs diverse bekende en min
 der bekende\, goed verborgen Street Art uitingen in de openbare ruimte.\n\
 nDeze wandeling is tot stand gekomen in samenwerking met Street Art Street
 s en PUNT in het Havenkwartier van Deventer waar ook het start- en eindpun
 t zijn van deze wandeling.
ATTACH;FMTTYPE=image/jpeg:https://www.havenkwartierdeventer.com/wp-content
 /uploads/IMG-9735.jpg
LOCATION:PUNT\, Scheepvaartstraat 7\, Deventer\, 7411 MB\, Nederland
GEO:52.248162;6.169922
X-APPLE-STRUCTURED-LOCATION;VALUE=URI;X-ADDRESS=Scheepvaartstraat 7\, Deven
 ter\, 7411 MB\, Nederland;X-APPLE-RADIUS=100;X-TITLE=PUNT:geo:52.248162,6.
 169922
END:VEVENT
BEGIN:VTIMEZONE
TZID:Europe/Amsterdam
X-LIC-LOCATION:Europe/Amsterdam
BEGIN:STANDARD
DTSTART:20221030T020000
TZOFFSETFROM:+0200
TZOFFSETTO:+0100
TZNAME:CET
END:STANDARD
END:VTIMEZONE
END:VCALENDAR