BEGIN:VCALENDAR
VERSION:2.0
PRODID:-//wp-events-plugin.com//7.2.3.1//EN
TZID:Europe/Amsterdam
X-WR-TIMEZONE:Europe/Amsterdam
BEGIN:VEVENT
UID:1432@havenkwartierdeventer.com
DTSTART;TZID=Europe/Amsterdam;VALUE=DATE:20181209
DTEND;TZID=Europe/Amsterdam;VALUE=DATE:20190121
DTSTAMP:20181129T173713Z
URL:https://www.havenkwartierdeventer.com/agenda/archief/foreign-nature/
SUMMARY:Foreign nature
DESCRIPTION:In de tentoonstelling “Foreign nature” gaat John Bijnens op
  zoek naar signalen die getuigen van het vermogen van de mens om zich in e
 en sterk veranderende omgeving te kunnen aanpassen. Zijn installaties\, ar
 chitecturale sculpturen en tekeningen spelen in op universele en herkenbar
 e gebeurtenissen en vinden vaak hun oorsprong in beelden waarmee we vertro
 uwd zijn geraakt. De kunstenaar bevraagt in de tentoonstelling onze mensel
 ijke drang naar vooruitgang.
ATTACH;FMTTYPE=image/jpeg:https://www.havenkwartierdeventer.com/wp-content
 /uploads/Log-cabin-2017-2-hk2-website.jpg
LOCATION:Kunstenlab\, Havenplein 20\, Deventer\, 7411 ME\, Nederland
GEO:52.24692798440024;6.169431123278855
X-APPLE-STRUCTURED-LOCATION;VALUE=URI;X-ADDRESS=Havenplein 20\, Deventer\, 
 7411 ME\, Nederland;X-APPLE-RADIUS=100;X-TITLE=Kunstenlab:geo:52.246927984
 40024,6.169431123278855
END:VEVENT
BEGIN:VTIMEZONE
TZID:Europe/Amsterdam
X-LIC-LOCATION:Europe/Amsterdam
BEGIN:STANDARD
DTSTART:20181028T020000
TZOFFSETFROM:+0200
TZOFFSETTO:+0100
TZNAME:CET
END:STANDARD
END:VTIMEZONE
END:VCALENDAR