BEGIN:VCALENDAR
VERSION:2.0
PRODID:-//wp-events-plugin.com//7.2.3.1//EN
TZID:Europe/Amsterdam
X-WR-TIMEZONE:Europe/Amsterdam
BEGIN:VEVENT
UID:505@havenkwartierdeventer.com
DTSTART;TZID=Europe/Amsterdam:20131123T200000
DTEND;TZID=Europe/Amsterdam:20131123T233000
DTSTAMP:20160320T123138Z
URL:https://www.havenkwartierdeventer.com/agenda/archief/haven4bigbands-li
 cense-to-swing/
SUMMARY:Haven4Bigbands: License to Swing!
DESCRIPTION:Onder de titel ‘License to Swing’ presenteren de vier bigba
 nds uit Deventer zich op 23 november om 20:00 uur in het Huis voor de Amat
 eurkunst.\n\nNa de eerste succesvolle editie in 2011 presenteren het Deven
 ter Jazz Orkest\, Bigband Twello\, de Hanzestadband en het Deventer Swing 
 Orkest zich voor de tweede keer op één podium. Zoals de titel doet vermo
 eden zal de muziek van deze swing avond in het teken staan van de James Bo
 nd films en daarbij behorende typische soundtrack. Nummers uit de films zu
 llen ten gehore gebracht worden\, naast het gebruikelijke repertoire van d
 e big bands\, met een grote dosis jazz\, swing en latin. Bezoekers zien ee
 n spannende avond tegemoet\, waarbij de benen los en de voeten van de vloe
 r kunnen: iedereen krijgt een license to swing!
LOCATION:Theaterschip\, Scheepvaartstraat 9-11\, Deventer\, 7411 MB\, Nede
 rland
GEO:52.247654;6.169954
X-APPLE-STRUCTURED-LOCATION;VALUE=URI;X-ADDRESS=Scheepvaartstraat 9-11\, D
 eventer\, 7411 MB\, Nederland;X-APPLE-RADIUS=100;X-TITLE=Theaterschip:geo:
 52.247654,6.169954
END:VEVENT
BEGIN:VTIMEZONE
TZID:Europe/Amsterdam
X-LIC-LOCATION:Europe/Amsterdam
BEGIN:STANDARD
DTSTART:20131027T020000
TZOFFSETFROM:+0200
TZOFFSETTO:+0100
TZNAME:CET
END:STANDARD
END:VTIMEZONE
END:VCALENDAR