BEGIN:VCALENDAR
VERSION:2.0
PRODID:-//wp-events-plugin.com//7.2.3.1//EN
TZID:Europe/Amsterdam
X-WR-TIMEZONE:Europe/Amsterdam
BEGIN:VEVENT
UID:838@havenkwartierdeventer.com
DTSTART;TZID=Europe/Amsterdam:20170709T133000
DTEND;TZID=Europe/Amsterdam:20170709T170000
DTSTAMP:20170622T131555Z
URL:https://www.havenkwartierdeventer.com/agenda/archief/hoogmoed-3/
SUMMARY:Hoogmoed
DESCRIPTION:In het Havenkwartier van Deventer worden voor de voorstelling 
 “Hoogmoed” drie zeecontainers geplaatst waar het publiek in kan plaats
  nemen. Zittend in de container kijkt het vanuit een omgekeerde kijkdoos u
 it over water\, een lange kade of blinde muur. Vanuit iedere container is 
 een performance te zien gericht op teksttheater\, muziektheater of theater
  &amp\; dans. Na 15 minuten verplaatst het publiek zich naar de volgende c
 ontainer\, totdat men alle performances gezien heeft.\nVoor Hoogmoed werkt
  het Theaterschip samen met Theatermakerij Enschede en Studio DanZo uit De
 venter.\n\nHoogmoed\nHoogmoed laat ons denken dat wij beter zijn dan eenie
 der om ons heen\, het laat ons denken dat wij het middelpunt van de aarde 
 zijn. De hoogmoedige mens is overtuigd van zijn eigen gaven en kunnen. Hij
  roept: ”Ik ben het! Ik… ik… ik…”.\n\nDe voorstelling duurt incl
 usief verplaatsing tussen de containers 50 minuten en is geschikt voor pub
 liek vanaf 10 jaar. Hoogmoed gaat in première tijdens Deventer op Stelten
  en zal daarna nog drie weekenden spelen tijdens de IJsselbiënnale.\n\nEe
 n uur voor aanvang en na afloop van de voorstelling is DOK H2O geopend voo
 r een drankje.\n\nSpeeltijden 9 juli: 13.30 en 16.00 uur
ATTACH;FMTTYPE=image/jpeg:https://www.havenkwartierdeventer.com/wp-content
 /uploads/EVENT-1-e1498137436823.png
LOCATION:Theaterschip\, Scheepvaartstraat 9-11\, Deventer\, 7411 MB\, Nede
 rland
GEO:52.247654;6.169954
X-APPLE-STRUCTURED-LOCATION;VALUE=URI;X-ADDRESS=Scheepvaartstraat 9-11\, D
 eventer\, 7411 MB\, Nederland;X-APPLE-RADIUS=100;X-TITLE=Theaterschip:geo:
 52.247654,6.169954
END:VEVENT
BEGIN:VTIMEZONE
TZID:Europe/Amsterdam
X-LIC-LOCATION:Europe/Amsterdam
BEGIN:DAYLIGHT
DTSTART:20170326T030000
TZOFFSETFROM:+0100
TZOFFSETTO:+0200
TZNAME:CEST
END:DAYLIGHT
END:VTIMEZONE
END:VCALENDAR