BEGIN:VCALENDAR
VERSION:2.0
PRODID:-//wp-events-plugin.com//7.2.3.1//EN
TZID:Europe/Amsterdam
X-WR-TIMEZONE:Europe/Amsterdam
BEGIN:VEVENT
UID:1872@havenkwartierdeventer.com
DTSTART;TZID=Europe/Amsterdam:20250912T200000
DTEND;TZID=Europe/Amsterdam:20250912T200000
DTSTAMP:20250603T195224Z
URL:https://www.havenkwartierdeventer.com/agenda/archief/ijsselbiennale-20
 25-nevengeul-jules-van-hulst-lio-spinnewijn-shade-of-a-wade/
SUMMARY:IJsselbiënnale 2025 - Nevengeul: Jules van Hulst & Lío Spinnewijn
  - 'Shade of a Wade'
DESCRIPTION:In het kader van IJsselbiënnale 2025 presenteert De Perifeer d
 it ‘Nevengeul’ programma in Kunstenlab. Omgeven door een cirkel van pu
 bliek\, worden performers Jules van Hulst en Lío Spinnewijn voortgestuwd 
 door groene lijnen van een kruislaser die roteert vanuit het centrum van d
 e vloer. Een fysiek spel in een anti-decor. Een doorwaadbare grens tussen 
 alleen zijn of samen\, tussen natuur en techniek.
ATTACH;FMTTYPE=image/jpeg:https://www.havenkwartierdeventer.com/wp-content
 /uploads/Shade-of-a-Wade-digi.jpg
LOCATION:Kunstenlab\, Havenplein 20\, Deventer\, 7411 ME\, Nederland
GEO:52.24692798440024;6.169431123278855
X-APPLE-STRUCTURED-LOCATION;VALUE=URI;X-ADDRESS=Havenplein 20\, Deventer\, 
 7411 ME\, Nederland;X-APPLE-RADIUS=100;X-TITLE=Kunstenlab:geo:52.246927984
 40024,6.169431123278855
END:VEVENT
BEGIN:VTIMEZONE
TZID:Europe/Amsterdam
X-LIC-LOCATION:Europe/Amsterdam
BEGIN:DAYLIGHT
DTSTART:20250330T030000
TZOFFSETFROM:+0100
TZOFFSETTO:+0200
TZNAME:CEST
END:DAYLIGHT
END:VTIMEZONE
END:VCALENDAR