BEGIN:VCALENDAR
VERSION:2.0
PRODID:-//wp-events-plugin.com//7.2.3.1//EN
TZID:Europe/Amsterdam
X-WR-TIMEZONE:Europe/Amsterdam
BEGIN:VEVENT
UID:1892@havenkwartierdeventer.com
DTSTART;TZID=Europe/Amsterdam;VALUE=DATE:20251011
DTEND;TZID=Europe/Amsterdam;VALUE=DATE:20260105
DTSTAMP:20251005T122305Z
URL:https://www.havenkwartierdeventer.com/agenda/archief/inner-orbits-cosm
 ic-motion/
SUMMARY:Inner Orbits\, Cosmic Motion
DESCRIPTION:Wat als het universum niet iets is dat je van veraf kunt bestud
 eren\, maar een spiegel waarin we onszelf herkennen? In de groepstentoonst
 elling ‘Inner Orbits\, Cosmic Motion’ gaat het over onze zoektocht naa
 r het grote onbekende. Samen met gastcurator Sabine Winters en een groep k
 unstenaars belichten we de rol van verbeelding in onze band met de kosmos.
ATTACH;FMTTYPE=image/jpeg:https://www.havenkwartierdeventer.com/wp-content
 /uploads/Hannah-van-der-Heide-1.jpeg
LOCATION:Kunstenlab\, Havenplein 20\, Deventer\, 7411 ME\, Nederland
GEO:52.24692798440024;6.169431123278855
X-APPLE-STRUCTURED-LOCATION;VALUE=URI;X-ADDRESS=Havenplein 20\, Deventer\, 
 7411 ME\, Nederland;X-APPLE-RADIUS=100;X-TITLE=Kunstenlab:geo:52.246927984
 40024,6.169431123278855
END:VEVENT
BEGIN:VTIMEZONE
TZID:Europe/Amsterdam
X-LIC-LOCATION:Europe/Amsterdam
BEGIN:DAYLIGHT
DTSTART:20250330T030000
TZOFFSETFROM:+0100
TZOFFSETTO:+0200
TZNAME:CEST
END:DAYLIGHT
BEGIN:STANDARD
DTSTART:20251026T020000
TZOFFSETFROM:+0200
TZOFFSETTO:+0100
TZNAME:CET
END:STANDARD
END:VTIMEZONE
END:VCALENDAR