BEGIN:VCALENDAR
VERSION:2.0
PRODID:-//wp-events-plugin.com//7.2.3.1//EN
TZID:Europe/Amsterdam
X-WR-TIMEZONE:Europe/Amsterdam
BEGIN:VEVENT
UID:539@havenkwartierdeventer.com
DTSTART;TZID=Europe/Amsterdam:20121216T130000
DTEND;TZID=Europe/Amsterdam:20121216T170000
DTSTAMP:20160322T175736Z
URL:https://www.havenkwartierdeventer.com/agenda/archief/italiaanse-proeve
 rij-voor-iedereen-we-zijn-jarig/
SUMMARY:Italiaanse proeverij voor iedereen. We zijn jarig!
DESCRIPTION:Op zondag 16 december organiseert La-Bottega.nl in ons pand aan
  de Noordzeestraat 2 de traditionele en feestelijke wijn en spijzen proeve
 rij!\n\nVan 13.00 tot 17.00 uur kunt U een keur aan witte\, rode\, rose\, 
 bubbel en dessert wijnen proeven om zo tijdens de komende feestdagen de pe
 rfecte wijn te kunnen schenken. Op zoek naar een wijn advies bij een bepaa
 ld gerecht? Onze Franco en Laura weten raad!\n\nTer gelegenheid van ons 10
  jarig bestaan pakken we extra uit met een Italiaanse demo en proeverij va
 n onder andere verse pasta maken/proeven\, bruschetta maken/proeven\, Zaba
 ione maken/proeven en proeven van Italiaanse ham\, Salami's en kazen. Voor
  advies over deze producten kunt U terecht bij onze Felice en Laura. Itali
 aans eten wordt door iedereen gewaardeerd en daarom is onze proeverij laag
 drempelig. Niks moeilijk doen maar gewoon lekker proeven\, je voelt je wel
 kom!\n\nOh ja\, er zijn natuurlijk ook kado's te vinden als Lambretta horl
 oge's\, design tassen\, Illy collectioncups\, automodellen\, boeken etc et
 c. Voor meer info: www.la-bottega.nl / www.automobilitalia.nl
LOCATION:Bella Macchina\, Noordzeestraat 2\, Deventer\, 7411 MA\, Nederland
GEO:52.24674108276617;6.169311290213045
X-APPLE-STRUCTURED-LOCATION;VALUE=URI;X-ADDRESS=Noordzeestraat 2\, Deventer
 \, 7411 MA\, Nederland;X-APPLE-RADIUS=100;X-TITLE=Bella Macchina:geo:52.24
 674108276617,6.169311290213045
END:VEVENT
BEGIN:VTIMEZONE
TZID:Europe/Amsterdam
X-LIC-LOCATION:Europe/Amsterdam
BEGIN:STANDARD
DTSTART:20121028T020000
TZOFFSETFROM:+0200
TZOFFSETTO:+0100
TZNAME:CET
END:STANDARD
END:VTIMEZONE
END:VCALENDAR