BEGIN:VCALENDAR
VERSION:2.0
PRODID:-//wp-events-plugin.com//7.2.3.1//EN
TZID:Europe/Amsterdam
X-WR-TIMEZONE:Europe/Amsterdam
BEGIN:VEVENT
UID:261@havenkwartierdeventer.com
DTSTART;TZID=Europe/Amsterdam:20151213T140000
DTEND;TZID=Europe/Amsterdam:20151213T170000
DTSTAMP:20151205T093400Z
URL:https://www.havenkwartierdeventer.com/agenda/archief/kerstwijnproeveri
 j/
SUMMARY:Kerstwijnproeverij
DESCRIPTION:Jaarlijkse Italiaanse kerstwijnproeverij onder begeleiding van 
 een Italiaanse wijndeskundige. Neem uw kerstrecept mee en laat u informere
 n over een bijpassende wijn.
ATTACH;FMTTYPE=image/jpeg:https://www.havenkwartierdeventer.com/wp-content
 /uploads/12322645_1079925638685118_5209633945020101945_o-e1449307996554.jp
 g
LOCATION:La Bottega\, Noordzeestraat 2\, Deventer\, 7411 MA\, Nederland
GEO:52.24677064263233;6.16919863743442
X-APPLE-STRUCTURED-LOCATION;VALUE=URI;X-ADDRESS=Noordzeestraat 2\, Deventer
 \, 7411 MA\, Nederland;X-APPLE-RADIUS=100;X-TITLE=La Bottega:geo:52.246770
 64263233,6.16919863743442
END:VEVENT
BEGIN:VTIMEZONE
TZID:Europe/Amsterdam
X-LIC-LOCATION:Europe/Amsterdam
BEGIN:STANDARD
DTSTART:20151025T020000
TZOFFSETFROM:+0200
TZOFFSETTO:+0100
TZNAME:CET
END:STANDARD
END:VTIMEZONE
END:VCALENDAR