BEGIN:VCALENDAR
VERSION:2.0
PRODID:-//wp-events-plugin.com//7.2.3.1//EN
TZID:Europe/Amsterdam
X-WR-TIMEZONE:Europe/Amsterdam
BEGIN:VEVENT
UID:1847@havenkwartierdeventer.com
DTSTART;TZID=Europe/Amsterdam:20241004T190000
DTEND;TZID=Europe/Amsterdam:20241004T194500
DTSTAMP:20240908T075329Z
URL:https://www.havenkwartierdeventer.com/agenda/archief/kreukvrij-10/
SUMMARY:Kreukvrij (10+)
DESCRIPTION:Een normale wasserette op een doorsnee dag\, gerund door een zo
 nderlinge eigenaar en vijf klanten met een zak vol was. En hoe ze door een
  toevalligheid elkaars geheimen\, rare trekjes en diepste verlangens leren
  kennen.\n\nKreukvrij is een tragisch-humoristische beeldende voorstelling
  met muziek\, dans\, fysiek spel en veel omkledingen. Een voorstelling ove
 r het zoeken naar je identiteit en hoeveel je jezelf daarvoor\, letterlijk
  en figuurlijk\, moet blootgeven.
ATTACH;FMTTYPE=image/jpeg:https://www.havenkwartierdeventer.com/wp-content
 /uploads/Kreukvrij-©-Christein-van-Hoffen_klein.jpg
LOCATION:Theaterschip\, Scheepvaartstraat 9-11\, Deventer\, 7411 MB\, Nede
 rland
GEO:52.247654;6.169954
X-APPLE-STRUCTURED-LOCATION;VALUE=URI;X-ADDRESS=Scheepvaartstraat 9-11\, D
 eventer\, 7411 MB\, Nederland;X-APPLE-RADIUS=100;X-TITLE=Theaterschip:geo:
 52.247654,6.169954
END:VEVENT
BEGIN:VTIMEZONE
TZID:Europe/Amsterdam
X-LIC-LOCATION:Europe/Amsterdam
BEGIN:DAYLIGHT
DTSTART:20240331T030000
TZOFFSETFROM:+0100
TZOFFSETTO:+0200
TZNAME:CEST
END:DAYLIGHT
END:VTIMEZONE
END:VCALENDAR