BEGIN:VCALENDAR
VERSION:2.0
PRODID:-//wp-events-plugin.com//7.2.3.1//EN
TZID:Europe/Amsterdam
X-WR-TIMEZONE:Europe/Amsterdam
BEGIN:VEVENT
UID:1530@havenkwartierdeventer.com
DTSTART;TZID=Europe/Amsterdam:20191201T160000
DTEND;TZID=Europe/Amsterdam:20191201T160000
DTSTAMP:20190923T180851Z
URL:https://www.havenkwartierdeventer.com/agenda/archief/lezing-cathy-van-
 eck-afsluiting-instruments/
SUMMARY:Lezing Cathy van Eck - afsluiting Instruments
DESCRIPTION:Als afsluiting van de Instruments Make Play expo in Kunstenlab 
 zal Cathy Van Eck een lezing houden over haar boek ‘Between Air and Elec
 tricity – Microphones and Loudspeakers as Musical Instruments’.
ATTACH;FMTTYPE=image/jpeg:https://www.havenkwartierdeventer.com/wp-content
 /uploads/lezing_Cathy-van-Eck.jpg
LOCATION:Kunstenlab\, Havenplein 20\, Deventer\, 7411 ME\, Nederland
GEO:52.24692798440024;6.169431123278855
X-APPLE-STRUCTURED-LOCATION;VALUE=URI;X-ADDRESS=Havenplein 20\, Deventer\, 
 7411 ME\, Nederland;X-APPLE-RADIUS=100;X-TITLE=Kunstenlab:geo:52.246927984
 40024,6.169431123278855
END:VEVENT
BEGIN:VTIMEZONE
TZID:Europe/Amsterdam
X-LIC-LOCATION:Europe/Amsterdam
BEGIN:STANDARD
DTSTART:20191027T020000
TZOFFSETFROM:+0200
TZOFFSETTO:+0100
TZNAME:CET
END:STANDARD
END:VTIMEZONE
END:VCALENDAR