BEGIN:VCALENDAR
VERSION:2.0
PRODID:-//wp-events-plugin.com//7.2.3.1//EN
TZID:Europe/Amsterdam
X-WR-TIMEZONE:Europe/Amsterdam
BEGIN:VEVENT
UID:1717@havenkwartierdeventer.com
DTSTART;TZID=Europe/Amsterdam:20220316T130000
DTEND;TZID=Europe/Amsterdam:20220320T170000
DTSTAMP:20220204T111825Z
URL:https://www.havenkwartierdeventer.com/agenda/archief/lydia-wierenga-a6
 -murals-worldwide/
SUMMARY:Lydia Wierenga - A6 murals worldwide
DESCRIPTION:Lydia Wierenga presenteert haar project en boek ‘A6 murals w
 orldwide’ in een korte tentoonstelling die van 16 t/m 20 maart te zien i
 s in Kunstenlab. Tijdens PERIFEST op 19 maart is Lydia Wierenga aanwezig e
 n is haar boek ‘A6 murals worldwide’ gesigneerd verkrijgbaar.
ATTACH;FMTTYPE=image/jpeg:https://www.havenkwartierdeventer.com/wp-content
 /uploads/A6-murals-worldwide-_-Lydia-Wierenga-scaled-e1643973369105.jpeg
LOCATION:Kunstenlab\, Havenplein 20\, Deventer\, 7411 ME\, Nederland
GEO:52.24692798440024;6.169431123278855
X-APPLE-STRUCTURED-LOCATION;VALUE=URI;X-ADDRESS=Havenplein 20\, Deventer\, 
 7411 ME\, Nederland;X-APPLE-RADIUS=100;X-TITLE=Kunstenlab:geo:52.246927984
 40024,6.169431123278855
END:VEVENT
BEGIN:VTIMEZONE
TZID:Europe/Amsterdam
X-LIC-LOCATION:Europe/Amsterdam
BEGIN:STANDARD
DTSTART:20211031T020000
TZOFFSETFROM:+0200
TZOFFSETTO:+0100
TZNAME:CET
END:STANDARD
END:VTIMEZONE
END:VCALENDAR