BEGIN:VCALENDAR
VERSION:2.0
PRODID:-//wp-events-plugin.com//7.2.3.1//EN
TZID:Europe/Amsterdam
X-WR-TIMEZONE:Europe/Amsterdam
BEGIN:VEVENT
UID:832@havenkwartierdeventer.com
DTSTART;TZID=Europe/Amsterdam:20170611T160000
DTEND;TZID=Europe/Amsterdam:20170611T173000
DTSTAMP:20170608T105459Z
URL:https://www.havenkwartierdeventer.com/agenda/archief/onfleek-voorstell
 ing/
SUMMARY:#OnFleek - Voorstelling
DESCRIPTION:On Fleek wordt een multidisciplinaire en energieke voorstelling
  waarin de ervaringen en verhalen van de spelers centraal staan. Het is ee
 n project van het Theaterschip en Kasper Scholten (ID Theatre Company).
ATTACH;FMTTYPE=image/jpeg:https://www.havenkwartierdeventer.com/wp-content
 /uploads/OnFleek-e1496919291504.jpeg
LOCATION:Theaterschip\, Scheepvaartstraat 9-11\, Deventer\, 7411 MB\, Nede
 rland
GEO:52.247654;6.169954
X-APPLE-STRUCTURED-LOCATION;VALUE=URI;X-ADDRESS=Scheepvaartstraat 9-11\, D
 eventer\, 7411 MB\, Nederland;X-APPLE-RADIUS=100;X-TITLE=Theaterschip:geo:
 52.247654,6.169954
END:VEVENT
BEGIN:VTIMEZONE
TZID:Europe/Amsterdam
X-LIC-LOCATION:Europe/Amsterdam
BEGIN:DAYLIGHT
DTSTART:20170326T030000
TZOFFSETFROM:+0100
TZOFFSETTO:+0200
TZNAME:CEST
END:DAYLIGHT
END:VTIMEZONE
END:VCALENDAR