BEGIN:VCALENDAR
VERSION:2.0
PRODID:-//wp-events-plugin.com//7.2.3.1//EN
TZID:Europe/Amsterdam
X-WR-TIMEZONE:Europe/Amsterdam
BEGIN:VEVENT
UID:578@havenkwartierdeventer.com
DTSTART;TZID=Europe/Amsterdam:20140301T113000
DTEND;TZID=Europe/Amsterdam:20140301T133000
DTSTAMP:20160322T180407Z
URL:https://www.havenkwartierdeventer.com/agenda/archief/open-workshop-egd
 -5/
SUMMARY:Open workshop.EGD
DESCRIPTION:Op zoek naar iets leuks voor jong en oud? Iets wat je leuk same
 n kan doen? Doe dan mee de Stencil Art &amp\; Graffiti Workshop van Egbert
 .EGD! Bij deze maandelijkse* OPEN WORKSHOP kan je je al inschrijven vanaf 
 1 persoon\, maar natuurlijk ook samen met je zoon of dochter\, partner\, v
 ader of moeder!\n\nDe workshops worden gegeven door Egbert Scheffer in het
  Havenkwartier Deventer en het is ongeveer dezelfde workshop die hij geeft
  bij zijn bedrijfsuitjes of kinderfeestjes. Alleen nu hoef je niet meer vo
 or minimaal 6 personen te betalen. Je betaalt gewoon voor jezelf en kiest 
 je eigen formaat schilderdoek.\n\nDeze OPEN workshop voor volwassenen (en 
 eventueel kinderen) bestaat uit een korte uitleg over de geschiedenis van 
 graffiti en street art. De deelnemers maken zelf sjablonen en oefenen met 
 spuitbussen op panelen. Daarna kunnen zij zelf een doek in eigen gekozen f
 ormaat doek beschilderen. (Bekijk video's van workshops om een goed beeld 
 te krijgen).\n\nKosten voor de workshop:\nHandschoenen\, beschermende kled
 ing en spuitbussen + koffie\, thee en ranja en wat lekkers.\n€ 35\,- per
  volwassene\, (exclusief schilderdoek)\n€ 15\,- per kind\, (exclusief sc
 hilderdoek)\nVoorbeeld extra kosten voor schilderdoek:\neen schilderdoek v
 an 30 x 30 cm: € 5\,- per stuk. (Dit formaat word aanbevolen)\neen schil
 derdoek van 60 x 80 cm: v.a. ongeveer € 10\,- per stuk. (dit is de maxim
 ale grote i.v.m met de ruimte in het atelier)\nVraag andere mogelijkheden 
 op via de mail.\n\nDe workshop duurt ongeveer 2 uur.\n\n* Er zullen meer d
 ata volgen\, via Facebook. Of mail naar e.scheffer@egbertegd.nl\, dan kan 
 Egbert je op de hoogte houden van de nieuwe data. Ik zal verschillende dag
 en en tijden aanhouden om een zo divers mogelijk aanbod data te bieden.\n\
 nInteresse in deze OPEN-workshop? Neem zo snel mogelijk contact met Egbert
  op om je als geïnteresseerde in te schrijven. Via e.scheffer@egbertegd.n
 l of 0624416387.\n\nLet op: de workshop gaat alleen door bij voldoende dee
 lname. Tijden en datum kunnen in overleg nog aangepast worden als dat het 
 aantal deelnemers ten goede komt. Je moet je aanmelden\, je kan niet gewoo
 n binnenlopen en mee doen!
LOCATION:Egbert.EGD\, Scheepvaartstraat 7\, Deventer\, 7411 MB\, Nederland
GEO:52.248163;6.169917
X-APPLE-STRUCTURED-LOCATION;VALUE=URI;X-ADDRESS=Scheepvaartstraat 7\, Deven
 ter\, 7411 MB\, Nederland;X-APPLE-RADIUS=100;X-TITLE=Egbert.EGD:geo:52.248
 163,6.169917
END:VEVENT
BEGIN:VTIMEZONE
TZID:Europe/Amsterdam
X-LIC-LOCATION:Europe/Amsterdam
BEGIN:STANDARD
DTSTART:20131027T020000
TZOFFSETFROM:+0200
TZOFFSETTO:+0100
TZNAME:CET
END:STANDARD
END:VTIMEZONE
END:VCALENDAR