BEGIN:VCALENDAR
VERSION:2.0
PRODID:-//wp-events-plugin.com//7.2.3.1//EN
TZID:Europe/Amsterdam
X-WR-TIMEZONE:Europe/Amsterdam
BEGIN:VEVENT
UID:211@havenkwartierdeventer.com
DTSTART;TZID=Europe/Amsterdam:20141129T153000
DTEND;TZID=Europe/Amsterdam:20141129T153000
DTSTAMP:20151203T091006Z
URL:https://www.havenkwartierdeventer.com/agenda/archief/opening-smartlab/
SUMMARY:Opening SmartLab
DESCRIPTION:Op zaterdag 29 november om 16.00 uur wordt het SmartLab feestel
 ijk geopend. Hiermee is Deventer een bijzondere werkplaats rijker.
ATTACH;FMTTYPE=image/jpeg:https://www.havenkwartierdeventer.com/wp-content
 /uploads/image-placeholder118.jpg
LOCATION:Hoofdkantoor IJsselbiënnale\, Noordzeestraat 3d\, Deventer\, 7411
  MA\, Nederland
GEO:52.24690201957694;6.168922369905886
X-APPLE-STRUCTURED-LOCATION;VALUE=URI;X-ADDRESS=Noordzeestraat 3d\, Devente
 r\, 7411 MA\, Nederland;X-APPLE-RADIUS=100;X-TITLE=Hoofdkantoor IJsselbië
 nnale:geo:52.24690201957694,6.168922369905886
END:VEVENT
BEGIN:VTIMEZONE
TZID:Europe/Amsterdam
X-LIC-LOCATION:Europe/Amsterdam
BEGIN:STANDARD
DTSTART:20141026T020000
TZOFFSETFROM:+0200
TZOFFSETTO:+0100
TZNAME:CET
END:STANDARD
END:VTIMEZONE
END:VCALENDAR