BEGIN:VCALENDAR
VERSION:2.0
PRODID:-//wp-events-plugin.com//7.2.3.1//EN
TZID:Europe/Amsterdam
X-WR-TIMEZONE:Europe/Amsterdam
BEGIN:VEVENT
UID:902@havenkwartierdeventer.com
DTSTART;TZID=Europe/Amsterdam:20171129T153000
DTEND;TZID=Europe/Amsterdam:20171129T163000
DTSTAMP:20171020T130842Z
URL:https://www.havenkwartierdeventer.com/agenda/archief/pakhuis-11-pieten
 voorstelling/
SUMMARY:Pakhuis 11 - Pietenvoorstelling
DESCRIPTION:Dan slaat Juf Pim de bladzijde van het boek dicht. De kinderen 
 uit haar klas zaten ademloos te luisteren… Zou dat soms de reden zijn wa
 arom in hun dorpje Sinterklaas nog nooit is geweest?
ATTACH;FMTTYPE=image/jpeg:https://www.havenkwartierdeventer.com/wp-content
 /uploads/06-e1508504908202.jpg
LOCATION:Theaterschip\, Scheepvaartstraat 9-11\, Deventer\, 7411 MB\, Nede
 rland
GEO:52.247654;6.169954
X-APPLE-STRUCTURED-LOCATION;VALUE=URI;X-ADDRESS=Scheepvaartstraat 9-11\, D
 eventer\, 7411 MB\, Nederland;X-APPLE-RADIUS=100;X-TITLE=Theaterschip:geo:
 52.247654,6.169954
END:VEVENT
BEGIN:VTIMEZONE
TZID:Europe/Amsterdam
X-LIC-LOCATION:Europe/Amsterdam
BEGIN:STANDARD
DTSTART:20171029T020000
TZOFFSETFROM:+0200
TZOFFSETTO:+0100
TZNAME:CET
END:STANDARD
END:VTIMEZONE
END:VCALENDAR