BEGIN:VCALENDAR
VERSION:2.0
PRODID:-//wp-events-plugin.com//7.2.3.1//EN
TZID:Europe/Amsterdam
X-WR-TIMEZONE:Europe/Amsterdam
BEGIN:VEVENT
UID:249@havenkwartierdeventer.com
DTSTART;TZID=Europe/Amsterdam;VALUE=DATE:20100424
DTEND;TZID=Europe/Amsterdam;VALUE=DATE:20100524
DTSTAMP:20151204T092815Z
URL:https://www.havenkwartierdeventer.com/agenda/archief/play-stop-pause/
SUMMARY:Play Stop Pause
DESCRIPTION:Van 24 april t/m 23 mei is de tentoonstelling ‘Play / Stop / 
 Pause’ van Stefano Calligaro\, David Stamp en Hidde van Schie te zien in
  het Havenkwartier. De opening is op vrijdag 23 april met o.a. een concert
  van Hidde van Schie (download zijn laatste release gratis bij het in het 
 Havenkwartier gevestigde platenlabel Esc.rec.).\n\n“Het is onjuist om te
  zeggen dat de kunstenaar een thema zoekt. Het thema komt in hem tot rijpi
 ng als een vrucht\, en vraagt steeds dringender om verbeelding.”\n\nAndr
 ei Tarkovski\, De Verzegelde Tijd 1986\n\nVerbeelding is volgens Tarkovski
  een natuurlijke eigenschap van de kunstenaar\; het is een geestesgesteldh
 eid\, geen denkwijze. Het werk van de drie kunstenaars Stefano Calligaro\,
  Hidde van Schie en David Stamp is erg verschillend van karakter en inhoud
  maar als kunstenaars delen zij eenzelfde speelse artistieke mentaliteit. 
 Hun werk ontstaat in verschillende media en kenmerkt zich door een intuiti
 eve aanpak waarbij het lang onzeker blijft of een werk zal slagen of niet.
 \n\nPlay / Stop / Pause beoogt een tentoonstelling waarin de direkte motie
 ven van de kunstenaars op de achtergrond blijven. Er wordt associatief gez
 ocht naar verbintenissen en tegenstellingen tussen hun werk en artistieke 
 uitgangspunten\; dat kan zijn de kleur\, het formaat of de inhoud van de h
 et werk. Net als in een collage zijn de kunstwerken losse elementen die do
 or de kunstenaars samen tot een nieuwe compositie worden geschikt\n\nIn de
  samenstelling van de tentoonstelling zoeken de makers vanuit hun eigen ar
 tistieke positie en karakter een verhouding tot het werk van de anderen. H
 et werk wordt in de tentoonstelling samen gebracht op een wijze zoals dat 
 voor een kunstenaar natuurlijk is: spelend en twijfelend\, zoekend naar be
 tekenis\, in de hoop iets te vinden dat de moeite waard is.\n\nOpening: 23
  April 2010\nAanvang: 20:00 uur\, met om 21:00 uur een concert van Hidde v
 an Schie
ATTACH;FMTTYPE=image/jpeg:https://www.havenkwartierdeventer.com/wp-content
 /uploads/large_play-4-e1449221279377.jpg
LOCATION:vmDAVO publieksruimte\, Mr. H.F. de Boerlaan 151\, Deventer\, 7411
  AH\, Nederland
GEO:52.24693858227156;6.169270749737507
X-APPLE-STRUCTURED-LOCATION;VALUE=URI;X-ADDRESS=Mr. H.F. de Boerlaan 151\, 
 Deventer\, 7411 AH\, Nederland;X-APPLE-RADIUS=100;X-TITLE=vmDAVO publieksr
 uimte:geo:52.24693858227156,6.169270749737507
END:VEVENT
BEGIN:VTIMEZONE
TZID:Europe/Amsterdam
X-LIC-LOCATION:Europe/Amsterdam
BEGIN:DAYLIGHT
DTSTART:20100328T030000
TZOFFSETFROM:+0100
TZOFFSETTO:+0200
TZNAME:CEST
END:DAYLIGHT
END:VTIMEZONE
END:VCALENDAR