BEGIN:VCALENDAR
VERSION:2.0
PRODID:-//wp-events-plugin.com//7.2.3.1//EN
TZID:Europe/Amsterdam
X-WR-TIMEZONE:Europe/Amsterdam
BEGIN:VEVENT
UID:777@havenkwartierdeventer.com
DTSTART;TZID=Europe/Amsterdam:20170304T140000
DTEND;TZID=Europe/Amsterdam:20170304T144500
DTSTAMP:20170303T100136Z
URL:https://www.havenkwartierdeventer.com/agenda/archief/still-try-out-2/
SUMMARY:STILL  Try-out
DESCRIPTION:Als vervolg op het succesvolle theaterproject Turning presentee
 rt beeldend kunstenaar Ronald de Ceuster in coproductie met Het Theatersch
 ip zijn nieuwe theaterperformance STILL\, waarin naast performer Petra Dic
 tus\, en Ronald de Ceuster zelf\, ook acht jonge meiden spelen. 
ATTACH;FMTTYPE=image/jpeg:https://www.havenkwartierdeventer.com/wp-content
 /uploads/STILL3-Ronald-de-Ceuster-1-e1486538704452.jpg
LOCATION:Theaterschip\, Scheepvaartstraat 9-11\, Deventer\, 7411 MB\, Nede
 rland
GEO:52.247654;6.169954
X-APPLE-STRUCTURED-LOCATION;VALUE=URI;X-ADDRESS=Scheepvaartstraat 9-11\, D
 eventer\, 7411 MB\, Nederland;X-APPLE-RADIUS=100;X-TITLE=Theaterschip:geo:
 52.247654,6.169954
END:VEVENT
BEGIN:VTIMEZONE
TZID:Europe/Amsterdam
X-LIC-LOCATION:Europe/Amsterdam
BEGIN:STANDARD
DTSTART:20161030T020000
TZOFFSETFROM:+0200
TZOFFSETTO:+0100
TZNAME:CET
END:STANDARD
END:VTIMEZONE
END:VCALENDAR