BEGIN:VCALENDAR
VERSION:2.0
PRODID:-//wp-events-plugin.com//7.2.3.1//EN
TZID:Europe/Amsterdam
X-WR-TIMEZONE:Europe/Amsterdam
BEGIN:VEVENT
UID:1832@havenkwartierdeventer.com
DTSTART;TZID=Europe/Amsterdam;VALUE=DATE:20240518
DTEND;TZID=Europe/Amsterdam;VALUE=DATE:20240701
DTSTAMP:20240602T184027Z
URL:https://www.havenkwartierdeventer.com/agenda/archief/tentoonstelling-b
 erichten-uit-het-platte-vlak/
SUMMARY:Tentoonstelling \\\\\\'Berichten uit het platte vlak\\\\\\'
DESCRIPTION:Het kunstenaarsduo PolakVanBekkum laat in de podiumruimte teken
 ingen zien uit de serie ‘Graaschoreografieën’ met graaspatronen van k
 oeien uit Groningen\, de Zwitserse Alpen en uit Markelo. Dezelfde soort li
 jnen zijn te zien in hun serie ‘Watertekeningen’\, gemaakt op de rivie
 roevers van de IJssel. In de podiumruimte tonen de kunstenaars twee videow
 erken waarin de hoofdrolspelers hun sporen achterlaten in het landschap.
ATTACH;FMTTYPE=image/jpeg:https://www.havenkwartierdeventer.com/wp-content
 /uploads/afb-1-Polakvanbekkum-scaled.jpg
LOCATION:Kunstenlab\, Havenplein 20\, Deventer\, 7411 ME\, Nederland
GEO:52.24692798440024;6.169431123278855
X-APPLE-STRUCTURED-LOCATION;VALUE=URI;X-ADDRESS=Havenplein 20\, Deventer\, 
 7411 ME\, Nederland;X-APPLE-RADIUS=100;X-TITLE=Kunstenlab:geo:52.246927984
 40024,6.169431123278855
END:VEVENT
BEGIN:VTIMEZONE
TZID:Europe/Amsterdam
X-LIC-LOCATION:Europe/Amsterdam
BEGIN:DAYLIGHT
DTSTART:20240331T030000
TZOFFSETFROM:+0100
TZOFFSETTO:+0200
TZNAME:CEST
END:DAYLIGHT
END:VTIMEZONE
END:VCALENDAR