BEGIN:VCALENDAR
VERSION:2.0
PRODID:-//wp-events-plugin.com//7.2.3.1//EN
TZID:Europe/Amsterdam
X-WR-TIMEZONE:Europe/Amsterdam
BEGIN:VEVENT
UID:1576@havenkwartierdeventer.com
DTSTART;TZID=Europe/Amsterdam:20191214T000000
DTEND;TZID=Europe/Amsterdam:20200202T000000
DTSTAMP:20200107T095718Z
URL:https://www.havenkwartierdeventer.com/agenda/archief/tentoonstelling-e
 xposure/
SUMMARY:Tentoonstelling Exposure
DESCRIPTION:Tibor Dieters toont in de tentoonstelling 'Exposure' een serie 
 fotogrammen. De kunstenaar stuurde de postpakketten met pinhole camera’s
  (een gaatjes-camera zonder lens) naar verschillende galerieën in Nederla
 nd.
ATTACH;FMTTYPE=image/jpeg:https://www.havenkwartierdeventer.com/wp-content
 /uploads/Exposure-16-Gallerie-Caroline-O’Breen-2019.04.25-2019.05.15-sma
 ll-e1575292243149.jpg
LOCATION:Kunstenlab\, Havenplein 20\, Deventer\, 7411 ME\, Nederland
GEO:52.24692798440024;6.169431123278855
X-APPLE-STRUCTURED-LOCATION;VALUE=URI;X-ADDRESS=Havenplein 20\, Deventer\, 
 7411 ME\, Nederland;X-APPLE-RADIUS=100;X-TITLE=Kunstenlab:geo:52.246927984
 40024,6.169431123278855
END:VEVENT
BEGIN:VTIMEZONE
TZID:Europe/Amsterdam
X-LIC-LOCATION:Europe/Amsterdam
BEGIN:STANDARD
DTSTART:20191027T020000
TZOFFSETFROM:+0200
TZOFFSETTO:+0100
TZNAME:CET
END:STANDARD
END:VTIMEZONE
END:VCALENDAR