BEGIN:VCALENDAR
VERSION:2.0
PRODID:-//wp-events-plugin.com//7.2.3.1//EN
TZID:Europe/Amsterdam
X-WR-TIMEZONE:Europe/Amsterdam
BEGIN:VEVENT
UID:1577@havenkwartierdeventer.com
DTSTART;TZID=Europe/Amsterdam:20191214T000000
DTEND;TZID=Europe/Amsterdam:20200202T000000
DTSTAMP:20200107T095736Z
URL:https://www.havenkwartierdeventer.com/agenda/archief/tentoonstelling-n
 o-problem-or-the-secret-life-of-objects/
SUMMARY:Tentoonstelling No Problem or the secret life of objects
DESCRIPTION:Ter gelegenheid van hun 40-jarig bestaan\, toont TAMTAM objekte
 ntheater de objecten\, props\, decors en video uit de gelijknamige beelden
 de voorstelling die in 1999 in première ging.
ATTACH;FMTTYPE=image/jpeg:https://www.havenkwartierdeventer.com/wp-content
 /uploads/NP-tangenballet2-e1575292380677.jpg
LOCATION:Kunstenlab\, Havenplein 20\, Deventer\, 7411 ME\, Nederland
GEO:52.24692798440024;6.169431123278855
X-APPLE-STRUCTURED-LOCATION;VALUE=URI;X-ADDRESS=Havenplein 20\, Deventer\, 
 7411 ME\, Nederland;X-APPLE-RADIUS=100;X-TITLE=Kunstenlab:geo:52.246927984
 40024,6.169431123278855
END:VEVENT
BEGIN:VTIMEZONE
TZID:Europe/Amsterdam
X-LIC-LOCATION:Europe/Amsterdam
BEGIN:STANDARD
DTSTART:20191027T020000
TZOFFSETFROM:+0200
TZOFFSETTO:+0100
TZNAME:CET
END:STANDARD
END:VTIMEZONE
END:VCALENDAR