BEGIN:VCALENDAR
VERSION:2.0
PRODID:-//wp-events-plugin.com//7.2.3.1//EN
TZID:Europe/Amsterdam
X-WR-TIMEZONE:Europe/Amsterdam
BEGIN:VEVENT
UID:1730@havenkwartierdeventer.com
DTSTART;TZID=Europe/Amsterdam;VALUE=DATE:20220409
DTEND;TZID=Europe/Amsterdam;VALUE=DATE:20220516
DTSTAMP:20220331T062654Z
URL:https://www.havenkwartierdeventer.com/agenda/archief/tentoonstelling-t
 he-blind-spot/
SUMMARY:Tentoonstelling The Blind Spot
DESCRIPTION:Bram Wouters toont in de podiumruimte van Kunstenlab een verzam
 eling werken waarin hij hedendaagse iconen en eeuwenoude ambachten met elk
 aar vervlecht. Van zelfportretten van olieverf tot altaarstukken met artif
 iciële elementen. De kunstenaar geeft daarmee een genereuze blik in zijn 
 persoonlijke leefwereld en onderzoek\, die hij voor het eerst met publiek 
 toont.
ATTACH;FMTTYPE=image/jpeg:https://www.havenkwartierdeventer.com/wp-content
 /uploads/uitsnede-bram-wouters-small-e1648707994546.jpg
LOCATION:Kunstenlab\, Havenplein 20\, Deventer\, 7411 ME\, Nederland
GEO:52.24692798440024;6.169431123278855
X-APPLE-STRUCTURED-LOCATION;VALUE=URI;X-ADDRESS=Havenplein 20\, Deventer\, 
 7411 ME\, Nederland;X-APPLE-RADIUS=100;X-TITLE=Kunstenlab:geo:52.246927984
 40024,6.169431123278855
END:VEVENT
BEGIN:VTIMEZONE
TZID:Europe/Amsterdam
X-LIC-LOCATION:Europe/Amsterdam
BEGIN:DAYLIGHT
DTSTART:20220327T030000
TZOFFSETFROM:+0100
TZOFFSETTO:+0200
TZNAME:CEST
END:DAYLIGHT
END:VTIMEZONE
END:VCALENDAR