BEGIN:VCALENDAR
VERSION:2.0
PRODID:-//wp-events-plugin.com//7.2.3.1//EN
TZID:Europe/Amsterdam
X-WR-TIMEZONE:Europe/Amsterdam
BEGIN:VEVENT
UID:1685@havenkwartierdeventer.com
DTSTART;TZID=Europe/Amsterdam;VALUE=DATE:20210911
DTEND;TZID=Europe/Amsterdam;VALUE=DATE:20211018
DTSTAMP:20210902T153124Z
URL:https://www.havenkwartierdeventer.com/agenda/archief/tentoonstelling-w
 oestijn-roos/
SUMMARY:Tentoonstelling Woestijn Roos
DESCRIPTION:Domas van Wijk toont in de grote zaal een geluidsinstallatie wa
 arin verschillende platenspelers en subwoofers met elkaar in verbinding st
 aan\, elk aangedreven door elkaars geluid.
ATTACH;FMTTYPE=image/jpeg:https://www.havenkwartierdeventer.com/wp-content
 /uploads/detail-installatie-Domas-van-wijk-afb-1-scaled-e1630596635492.jpg
LOCATION:Kunstenlab\, Havenplein 20\, Deventer\, 7411 ME\, Nederland
GEO:52.24692798440024;6.169431123278855
X-APPLE-STRUCTURED-LOCATION;VALUE=URI;X-ADDRESS=Havenplein 20\, Deventer\, 
 7411 ME\, Nederland;X-APPLE-RADIUS=100;X-TITLE=Kunstenlab:geo:52.246927984
 40024,6.169431123278855
END:VEVENT
BEGIN:VTIMEZONE
TZID:Europe/Amsterdam
X-LIC-LOCATION:Europe/Amsterdam
BEGIN:DAYLIGHT
DTSTART:20210328T030000
TZOFFSETFROM:+0100
TZOFFSETTO:+0200
TZNAME:CEST
END:DAYLIGHT
END:VTIMEZONE
END:VCALENDAR