BEGIN:VCALENDAR
VERSION:2.0
PRODID:-//wp-events-plugin.com//7.2.3.1//EN
TZID:Europe/Amsterdam
X-WR-TIMEZONE:Europe/Amsterdam
BEGIN:VEVENT
UID:1841@havenkwartierdeventer.com
DTSTART;TZID=Europe/Amsterdam:20240715T180000
DTEND;TZID=Europe/Amsterdam:20240715T220000
DTSTAMP:20240705T081808Z
URL:https://www.havenkwartierdeventer.com/agenda/archief/the-proof-of-the-
 pudding-is-in-the-eating-luca-favaro-guusje-slagter/
SUMMARY:The Proof of the Pudding is in the Eating: Luca Favaro & Guusje Sla
 gter
DESCRIPTION:Beeldend kunstenaar Guusje Slagter (NL) en geluidskunstenaar Lu
 ca Favaro (IT) zijn samengebracht om een diner te ontwikkelen. Tijdens dit
  evenement nemen de twee kunstenaars je mee op een verrassend avondprogram
 ma waarbij het eten\, de manier waarop je eet en de omgeving allemaal deel
  uitmaken van de dinerervaring. Bereid je voor op een diner waarin geluid 
 een grote rol speelt.
ATTACH;FMTTYPE=image/jpeg:https://www.havenkwartierdeventer.com/wp-content
 /uploads/Luca-en-Guusje.jpeg
LOCATION:Kunstenlab\, Havenplein 20\, Deventer\, 7411 ME\, Nederland
GEO:52.24692798440024;6.169431123278855
X-APPLE-STRUCTURED-LOCATION;VALUE=URI;X-ADDRESS=Havenplein 20\, Deventer\, 
 7411 ME\, Nederland;X-APPLE-RADIUS=100;X-TITLE=Kunstenlab:geo:52.246927984
 40024,6.169431123278855
END:VEVENT
BEGIN:VTIMEZONE
TZID:Europe/Amsterdam
X-LIC-LOCATION:Europe/Amsterdam
BEGIN:DAYLIGHT
DTSTART:20240331T030000
TZOFFSETFROM:+0100
TZOFFSETTO:+0200
TZNAME:CEST
END:DAYLIGHT
END:VTIMEZONE
END:VCALENDAR