BEGIN:VCALENDAR
VERSION:2.0
PRODID:-//wp-events-plugin.com//7.2.3.1//EN
TZID:Europe/Amsterdam
X-WR-TIMEZONE:Europe/Amsterdam
BEGIN:VEVENT
UID:119@havenkwartierdeventer.com
DTSTART;TZID=Europe/Amsterdam:20120217T170000
DTEND;TZID=Europe/Amsterdam:20120217T220000
DTSTAMP:20151201T130411Z
URL:https://www.havenkwartierdeventer.com/agenda/archief/tracking-rotterda
 m-semantic-structures/
SUMMARY:Tracking Rotterdam + semantic structures
DESCRIPTION:Twee technisch geavanceerde performance installaties ditmaal bi
 j WILLIE. ‘Tracking Rotterdam on Tour’ van Michal Osowski &amp\; Hidde
  van Schie en ‘Semantic Structures’ van Kamiel Verschuren.
ATTACH;FMTTYPE=image/jpeg:https://www.havenkwartierdeventer.com/wp-content
 /uploads/P1060124.jpg
LOCATION:WILLIE\, Mr. H.F. de Boerlaan 151\, Deventer\, 7411 AH\, Nederland
GEO:52.24689916926152;6.169469233204609
X-APPLE-STRUCTURED-LOCATION;VALUE=URI;X-ADDRESS=Mr. H.F. de Boerlaan 151\, 
 Deventer\, 7411 AH\, Nederland;X-APPLE-RADIUS=100;X-TITLE=WILLIE:geo:52.24
 689916926152,6.169469233204609
END:VEVENT
BEGIN:VTIMEZONE
TZID:Europe/Amsterdam
X-LIC-LOCATION:Europe/Amsterdam
BEGIN:STANDARD
DTSTART:20111030T020000
TZOFFSETFROM:+0200
TZOFFSETTO:+0100
TZNAME:CET
END:STANDARD
END:VTIMEZONE
END:VCALENDAR