BEGIN:VCALENDAR
VERSION:2.0
PRODID:-//wp-events-plugin.com//7.2.3.1//EN
TZID:Europe/Amsterdam
X-WR-TIMEZONE:Europe/Amsterdam
BEGIN:VEVENT
UID:770@havenkwartierdeventer.com
DTSTART;TZID=Europe/Amsterdam:20170214T200000
DTEND;TZID=Europe/Amsterdam:20170214T220000
DTSTAMP:20170119T125730Z
URL:https://www.havenkwartierdeventer.com/agenda/archief/valentijnsdag-ope
 nworkshop-egd/
SUMMARY:Valentijnsdag OpenWorkshop.EGD
DESCRIPTION:Op Valentijnsdag organiseert Egbert.EGD weer een workshop speci
 aal voor Lover duo’s. Kom samen met je partner een schilderij maken of a
 llebei een hartjes schilderdoek van creatieve liefde voorzien!
ATTACH;FMTTYPE=image/jpeg:https://www.havenkwartierdeventer.com/wp-content
 /uploads/HKfeb-17-open-workshop-e1484830633105.jpg
LOCATION:Egbert.EGD\, Scheepvaartstraat 7\, Deventer\, 7411 MB\, Nederland
GEO:52.248163;6.169917
X-APPLE-STRUCTURED-LOCATION;VALUE=URI;X-ADDRESS=Scheepvaartstraat 7\, Deven
 ter\, 7411 MB\, Nederland;X-APPLE-RADIUS=100;X-TITLE=Egbert.EGD:geo:52.248
 163,6.169917
END:VEVENT
BEGIN:VTIMEZONE
TZID:Europe/Amsterdam
X-LIC-LOCATION:Europe/Amsterdam
BEGIN:STANDARD
DTSTART:20161030T020000
TZOFFSETFROM:+0200
TZOFFSETTO:+0100
TZNAME:CET
END:STANDARD
END:VTIMEZONE
END:VCALENDAR