BEGIN:VCALENDAR
VERSION:2.0
PRODID:-//wp-events-plugin.com//7.2.3.1//EN
TZID:Europe/Amsterdam
X-WR-TIMEZONE:Europe/Amsterdam
BEGIN:VEVENT
UID:1434@havenkwartierdeventer.com
DTSTART;TZID=Europe/Amsterdam;VALUE=DATE:20181208
DTEND;TZID=Europe/Amsterdam;VALUE=DATE:20190121
DTSTAMP:20181129T173621Z
URL:https://www.havenkwartierdeventer.com/agenda/archief/wand-vlak-blik-ve
 ld/
SUMMARY:wand-vlak-blik-veld
DESCRIPTION:Kenmerkend aan het werk van Peter-Frans de Graaf is zijn gebrui
 k van verticale of horizontale kleurvlakken. Die vlakken kunnen elke kleur
  hebben\, maar onderscheiden zich altijd door de specifieke verfstreek en 
 door gebruik van bijzondere\, soms giftige –of zelfs verboden– kleurst
 offen. Het doel is een emotionele kleuruitwerking.
ATTACH;FMTTYPE=image/jpeg:https://www.havenkwartierdeventer.com/wp-content
 /uploads/2017-04-13-VELD-lcge-lvio-w-lwgrvers7-kopie-hk.jpg
LOCATION:Kunstenlab\, Havenplein 20\, Deventer\, 7411 ME\, Nederland
GEO:52.24692798440024;6.169431123278855
X-APPLE-STRUCTURED-LOCATION;VALUE=URI;X-ADDRESS=Havenplein 20\, Deventer\, 
 7411 ME\, Nederland;X-APPLE-RADIUS=100;X-TITLE=Kunstenlab:geo:52.246927984
 40024,6.169431123278855
END:VEVENT
BEGIN:VTIMEZONE
TZID:Europe/Amsterdam
X-LIC-LOCATION:Europe/Amsterdam
BEGIN:STANDARD
DTSTART:20181028T020000
TZOFFSETFROM:+0200
TZOFFSETTO:+0100
TZNAME:CET
END:STANDARD
END:VTIMEZONE
END:VCALENDAR