BEGIN:VCALENDAR
VERSION:2.0
PRODID:-//wp-events-plugin.com//7.2.3.1//EN
TZID:Europe/Amsterdam
X-WR-TIMEZONE:Europe/Amsterdam
BEGIN:VEVENT
UID:340@havenkwartierdeventer.com
DTSTART;TZID=Europe/Amsterdam:20150928T150000
DTEND;TZID=Europe/Amsterdam:20150928T200000
DTSTAMP:20160115T131651Z
URL:https://www.havenkwartierdeventer.com/agenda/archief/zomaar-op-zondag-
 live-music/
SUMMARY:Zomaar op zondag live music
DESCRIPTION:Deze zondag heeft een fijne 'blues' rand qua muziekstijl en het
  beloofd weer erg gezellig te worden. Entree is gratis het geheel word muz
 ikaal omlijst door drie 'vette' bands.\n\nDown at the Doctors. Vers van de
  pers en helemaal klaar om te spelen. Deze Dr. Feelgood muziek vereist een
  goed paar dansschoenen en een lekkere borrel. Vultures Vultures is een on
 genadig powertrio uit Deventer. Ze putten inspiratie uit artiesten als Jim
 i Hendrix en Cream. Seventies rock recht voor je bakkes!\n\nDit keer word 
 Zomaar op Zondag aan het einde van de middag vergezeld door Stokes BBQ. Me
 edoen aan de BBQ? Zeker doen\, om je vingers bij af te likken!\n\nOpgave v
 ia info@stokesbbq.nl en natuurlijk is aanschuiven ook mogelijk. Op=op. Pr
 ijs € 20\,00\n\nOok tijdens de BBQ is er live muziek van de Hoodoo Monks
  Electrified Chicago Blues played by Boogaloo T and Benito Burnette.\n\nLi
 ve music: 15:00 - 18:00 uur\nBBQ Stokes: 17:30 - 20:00 uur
LOCATION:Valencia\, Scheepvaartstraat 13\, Deventer\, 7411 MB\, Nederland
GEO:52.247391;6.169798
X-APPLE-STRUCTURED-LOCATION;VALUE=URI;X-ADDRESS=Scheepvaartstraat 13\, Deve
 nter\, 7411 MB\, Nederland;X-APPLE-RADIUS=100;X-TITLE=Valencia:geo:52.2473
 91,6.169798
END:VEVENT
BEGIN:VTIMEZONE
TZID:Europe/Amsterdam
X-LIC-LOCATION:Europe/Amsterdam
BEGIN:DAYLIGHT
DTSTART:20150329T030000
TZOFFSETFROM:+0100
TZOFFSETTO:+0200
TZNAME:CEST
END:DAYLIGHT
END:VTIMEZONE
END:VCALENDAR